BEGIN:VCALENDAR
VERSION:2.0
PRODID:-//Bunting Charity - ECPv4.9.1.1//NONSGML v1.0//EN
CALSCALE:GREGORIAN
METHOD:PUBLISH
X-WR-CALNAME:Bunting Charity
X-ORIGINAL-URL:http://buntingcharity.org/dev
X-WR-CALDESC:Events for Bunting Charity
BEGIN:VEVENT
DTSTART;TZID=America/New_York:20190222T080000
DTEND;TZID=America/New_York:20190222T170000
DTSTAMP:20260424T201328
CREATED:20190228T161248Z
LAST-MODIFIED:20190228T161248Z
UID:345-1550822400-1550854800@buntingcharity.org
SUMMARY:Degree of Fellowcraft
DESCRIPTION:
URL:http://buntingcharity.org/dev/event/degree-of-fellowcraft/
LOCATION:Bunting Charity Lodge\, 71 West 23rd Street\, Manhattan\, NY\, 10010\, United States
END:VEVENT
END:VCALENDAR