BEGIN:VCALENDAR
VERSION:2.0
PRODID:-//Bunting Charity - ECPv4.9.1.1//NONSGML v1.0//EN
CALSCALE:GREGORIAN
METHOD:PUBLISH
X-WR-CALNAME:Bunting Charity
X-ORIGINAL-URL:http://buntingcharity.org/dev
X-WR-CALDESC:Events for Bunting Charity
BEGIN:VEVENT
DTSTART;TZID=America/New_York:20191204T140000
DTEND;TZID=America/New_York:20191204T170000
DTSTAMP:20260424T201415
CREATED:20190228T161624Z
LAST-MODIFIED:20190228T162021Z
UID:351-1575468000-1575478800@buntingcharity.org
SUMMARY:Masonic Toys for Tots Children’s Holiday Party
DESCRIPTION:
URL:http://buntingcharity.org/dev/event/masonic-toys-for-tots-childrens-holiday-party/
LOCATION:Bunting Charity Lodge\, 71 West 23rd Street\, Manhattan\, NY\, 10010\, United States
END:VEVENT
END:VCALENDAR